BEGIN:VCALENDAR
VERSION:2.0
PRODID:-//Okofor Boxing & Fitness - ECPv6.15.20//NONSGML v1.0//EN
CALSCALE:GREGORIAN
METHOD:PUBLISH
X-ORIGINAL-URL:https://okoforboxing.com
X-WR-CALDESC:Events for Okofor Boxing & Fitness
REFRESH-INTERVAL;VALUE=DURATION:PT1H
X-Robots-Tag:noindex
X-PUBLISHED-TTL:PT1H
BEGIN:VTIMEZONE
TZID:UTC
BEGIN:STANDARD
TZOFFSETFROM:+0000
TZOFFSETTO:+0000
TZNAME:UTC
DTSTART:20250101T000000
END:STANDARD
END:VTIMEZONE
BEGIN:VEVENT
DTSTART;TZID=UTC:20260117T100000
DTEND;TZID=UTC:20260117T100000
DTSTAMP:20260423T143939
CREATED:20251202T192651Z
LAST-MODIFIED:20251202T192713Z
UID:5905-1768644000-1768644000@okoforboxing.com
SUMMARY:Okofor Big Fight Night - Title Belt Show
DESCRIPTION:Join us for the most exciting boxing event in South Jersey! \nOkofor Fitness & Boxing proudly presents the Okofor Big Fight Night: Title Belt Show on January 17\, 2026. Experience the passion\, skill\, and heart of amateur boxing while supporting your local boxing community. Whether you’re a dedicated boxing fan or new to the sport\, this is an unforgettable evening of competition\, community\, and championship glory. \nDon’t miss your chance to witness the next generation of boxing champions at Okofor’s inaugural Big Fight Night! \nEvent Details\nDate: January 17\, 2026\n\n \nSchedule: \n\nDoors Open: 10:00 AM\nWeigh-In: 11:00 AM\nWeigh-In Closes: 1:00 PM\nFirst Bout: 2:00 PM\n\nTicket Information\nPurchase tickets at the door or in advance at Okofor Fitness + Boxing \n\nVIP: $50\nStandard Admission: $40\nKids Under 10: $20\n\nFor Boxers\nReady to compete? Submit all boxers on www.matchmyboxer.com or contact us at (609) 222-0521
URL:https://okoforboxing.com/event/okofor-big-fight-night-title-belt-show/
END:VEVENT
END:VCALENDAR